BEGIN:VCALENDAR
VERSION:2.0
PRODID:-//Plone.org//NONSGML plone.app.event//EN
X-WR-TIMEZONE:Europe/Rome
BEGIN:VEVENT
SUMMARY:ExpoChimica
DTSTART;TZID=Europe/Rome;VALUE=DATE-TIME:20151125T093000
DTEND;TZID=Europe/Rome;VALUE=DATE-TIME:20151127T180000
DTSTAMP;VALUE=DATE-TIME:20260421T093415Z
UID:81171f0f95b64dadb1df04e01ed96826@dicam.unibo.it
CREATED;VALUE=DATE-TIME:20151123T105416Z
DESCRIPTION:Mostra convegno della Chimica Specialistica in Italia.
LAST-MODIFIED;VALUE=DATE-TIME:20151123T105509Z
URL:https://dicam.unibo.it/it/eventi/expochimica
END:VEVENT
BEGIN:VTIMEZONE
TZID:Europe/Rome
X-LIC-LOCATION:Europe/Rome
BEGIN:STANDARD
DTSTART;VALUE=DATE-TIME:20151025T020000
TZNAME:CET
TZOFFSETFROM:+0200
TZOFFSETTO:+0100
END:STANDARD
END:VTIMEZONE
END:VCALENDAR
