BEGIN:VCALENDAR
VERSION:2.0
PRODID:-//Plone.org//NONSGML plone.app.event//EN
X-WR-TIMEZONE:Europe/Rome
BEGIN:VEVENT
SUMMARY:FESTA D'ESTATE 2018
DTSTART;VALUE=DATE:20180620
DTEND;VALUE=DATE:20180621
DTSTAMP;VALUE=DATE-TIME:20260426T054110Z
UID:f002ca7e60ae47e7ae4ee190f2e19fe3@dicam.unibo.it
CREATED;VALUE=DATE-TIME:20180605T071808Z
LAST-MODIFIED;VALUE=DATE-TIME:20180605T072212Z
URL:https://dicam.unibo.it/it/eventi/festa-destate-dicam-terracini-in-tran
 sizione
END:VEVENT
END:VCALENDAR
