BEGIN:VCALENDAR
VERSION:2.0
PRODID:-//Plone.org//NONSGML plone.app.event//EN
X-WR-TIMEZONE:Europe/Rome
BEGIN:VEVENT
SUMMARY:Festival Human Rights Nights: cinema e arte tra rifugiati\, migraz
 ioni e conflitti
DTSTART;TZID=Europe/Rome;VALUE=DATE-TIME:20160506T200000
DTEND;TZID=Europe/Rome;VALUE=DATE-TIME:20160515T211500
DTSTAMP;VALUE=DATE-TIME:20260421T100141Z
UID:0b20944ac0a147b1a16d7aa4fa23943f@dicam.unibo.it
CREATED;VALUE=DATE-TIME:20160509T110540Z
DESCRIPTION:Dal 6 al 15 maggio torna a Bologna il primo festival italiano 
 dedicato ai diritti umani\, con un ricco programma tra cinema\, musica\, a
 rte e cultura e un focus sulle migrazioni di oggi.
LAST-MODIFIED;VALUE=DATE-TIME:20160509T112006Z
URL:https://dicam.unibo.it/it/eventi/festival-human-rights-nights-cinema-e
 -arte-tra-rifugiati-migrazioni-e-conflitti
END:VEVENT
BEGIN:VTIMEZONE
TZID:Europe/Rome
X-LIC-LOCATION:Europe/Rome
BEGIN:DAYLIGHT
DTSTART;VALUE=DATE-TIME:20160327T030000
TZNAME:CEST
TZOFFSETFROM:+0100
TZOFFSETTO:+0200
END:DAYLIGHT
END:VTIMEZONE
END:VCALENDAR
