BEGIN:VCALENDAR
VERSION:2.0
PRODID:-//Plone.org//NONSGML plone.app.event//EN
X-WR-TIMEZONE:Europe/Rome
BEGIN:VEVENT
SUMMARY:Filter cake deliquoring
DTSTART;TZID=Europe/Rome;VALUE=DATE-TIME:20200608T150000
DTEND;TZID=Europe/Rome;VALUE=DATE-TIME:20200608T163000
DTSTAMP;VALUE=DATE-TIME:20260424T175905Z
UID:2b73a00710854bcdbf19c022c3404a22@dicam.unibo.it
CREATED;VALUE=DATE-TIME:20200605T064251Z
DESCRIPTION:Seminario Dr. Gernot Krammer (Graz University of Technology\, 
 Austria)
LAST-MODIFIED;VALUE=DATE-TIME:20200605T064436Z
URL:https://dicam.unibo.it/it/eventi/filter-cake-deliquoring
END:VEVENT
BEGIN:VTIMEZONE
TZID:Europe/Rome
X-LIC-LOCATION:Europe/Rome
BEGIN:DAYLIGHT
DTSTART;VALUE=DATE-TIME:20200329T030000
TZNAME:CEST
TZOFFSETFROM:+0100
TZOFFSETTO:+0200
END:DAYLIGHT
END:VTIMEZONE
END:VCALENDAR
