BEGIN:VCALENDAR
VERSION:2.0
PRODID:-//Plone.org//NONSGML plone.app.event//EN
X-WR-TIMEZONE:Europe/Rome
BEGIN:VEVENT
SUMMARY:Games on the periodic table….the puzzle of critical raw material
 s
DTSTART;TZID=Europe/Rome;VALUE=DATE-TIME:20241106T090000
DTEND;TZID=Europe/Rome;VALUE=DATE-TIME:20241106T110000
DTSTAMP;VALUE=DATE-TIME:20260421T042807Z
UID:403a6badda9c4a1a9e906603a9969b3b@dicam.unibo.it
CREATED;VALUE=DATE-TIME:20241031T115949Z
DESCRIPTION:Dr. Paolo Dambruoso
LAST-MODIFIED;VALUE=DATE-TIME:20241031T120640Z
URL:https://dicam.unibo.it/it/eventi/games-on-the-periodic-table-the-puzzl
 e-of-critical-raw-materials
END:VEVENT
BEGIN:VTIMEZONE
TZID:Europe/Rome
X-LIC-LOCATION:Europe/Rome
BEGIN:STANDARD
DTSTART;VALUE=DATE-TIME:20241027T020000
TZNAME:CET
TZOFFSETFROM:+0200
TZOFFSETTO:+0100
END:STANDARD
END:VTIMEZONE
END:VCALENDAR
