BEGIN:VCALENDAR
VERSION:2.0
PRODID:-//Plone.org//NONSGML plone.app.event//EN
X-WR-TIMEZONE:Europe/Rome
BEGIN:VEVENT
SUMMARY:Giornata di studio “Costruzioni in Legno Lamellare”
DTSTART;TZID=Europe/Rome;VALUE=DATE-TIME:20150423T093000
DTEND;TZID=Europe/Rome;VALUE=DATE-TIME:20150423T183000
DTSTAMP;VALUE=DATE-TIME:20260421T061204Z
UID:a59a02ea0f674d01adb0bddae7e4ea5d@dicam.unibo.it
CREATED;VALUE=DATE-TIME:20150422T045023Z
LAST-MODIFIED;VALUE=DATE-TIME:20150422T045118Z
URL:https://dicam.unibo.it/it/eventi/giornata-di-studio-201ccostruzioni-in
 -legno-lamellare201d
END:VEVENT
BEGIN:VTIMEZONE
TZID:Europe/Rome
X-LIC-LOCATION:Europe/Rome
BEGIN:DAYLIGHT
DTSTART;VALUE=DATE-TIME:20150329T030000
TZNAME:CEST
TZOFFSETFROM:+0100
TZOFFSETTO:+0200
END:DAYLIGHT
END:VTIMEZONE
END:VCALENDAR
