BEGIN:VCALENDAR
VERSION:2.0
PRODID:-//Plone.org//NONSGML plone.app.event//EN
X-WR-TIMEZONE:Europe/Rome
BEGIN:VEVENT
SUMMARY:Heat transfer in multiphase systems
DTSTART;TZID=Europe/Rome;VALUE=DATE-TIME:20240710T110000
DTEND;TZID=Europe/Rome;VALUE=DATE-TIME:20240710T130000
DTSTAMP;VALUE=DATE-TIME:20260421T060815Z
UID:8e1e9bce585b4474abeb69fbe861410c@dicam.unibo.it
CREATED;VALUE=DATE-TIME:20240708T101610Z
DESCRIPTION:Prof. Daniel M. Tartakovsky\, Stanford University
LAST-MODIFIED;VALUE=DATE-TIME:20240708T101850Z
URL:https://dicam.unibo.it/it/eventi/heat-transfer-in-multiphase-systems
END:VEVENT
BEGIN:VTIMEZONE
TZID:Europe/Rome
X-LIC-LOCATION:Europe/Rome
BEGIN:DAYLIGHT
DTSTART;VALUE=DATE-TIME:20240331T030000
TZNAME:CEST
TZOFFSETFROM:+0100
TZOFFSETTO:+0200
END:DAYLIGHT
END:VTIMEZONE
END:VCALENDAR
