BEGIN:VCALENDAR
VERSION:2.0
PRODID:-//Plone.org//NONSGML plone.app.event//EN
X-WR-TIMEZONE:Europe/Rome
BEGIN:VEVENT
SUMMARY:How beneficial could be the use of reaction calorimetry in chemica
 l reaction engineering ?
DTSTART;TZID=Europe/Rome;VALUE=DATE-TIME:20240626T150000
DTEND;TZID=Europe/Rome;VALUE=DATE-TIME:20240626T170000
DTSTAMP;VALUE=DATE-TIME:20260421T061321Z
UID:65108a313ac840a09cea174f276dc43f@dicam.unibo.it
CREATED;VALUE=DATE-TIME:20240625T102732Z
DESCRIPTION:Prof. Sebastien Leveneur\, INSA Rouen
LAST-MODIFIED;VALUE=DATE-TIME:20240625T103046Z
URL:https://dicam.unibo.it/it/eventi/how-beneficial-could-be-the-use-of-re
 action-calorimetry-in-chemical-reaction-engineering
END:VEVENT
BEGIN:VTIMEZONE
TZID:Europe/Rome
X-LIC-LOCATION:Europe/Rome
BEGIN:DAYLIGHT
DTSTART;VALUE=DATE-TIME:20240331T030000
TZNAME:CEST
TZOFFSETFROM:+0100
TZOFFSETTO:+0200
END:DAYLIGHT
END:VTIMEZONE
END:VCALENDAR
