BEGIN:VCALENDAR
VERSION:2.0
PRODID:-//Plone.org//NONSGML plone.app.event//EN
X-WR-TIMEZONE:Europe/Rome
BEGIN:VEVENT
SUMMARY:ICCS21 - 21st International Conference on Composite Structures
DTSTART;VALUE=DATE:20180904
DTEND;VALUE=DATE:20180908
DTSTAMP;VALUE=DATE-TIME:20260424T063538Z
UID:c17caeb164d34f4186f9229627d346e9@dicam.unibo.it
CREATED;VALUE=DATE-TIME:20180604T125912Z
LAST-MODIFIED;VALUE=DATE-TIME:20180604T130107Z
URL:https://dicam.unibo.it/it/eventi/iccs21
END:VEVENT
END:VCALENDAR
