BEGIN:VCALENDAR
VERSION:2.0
PRODID:-//Plone.org//NONSGML plone.app.event//EN
X-WR-TIMEZONE:Europe/Rome
BEGIN:VEVENT
SUMMARY:Il codice ambiguo - esplorando il manoscritto Voynich
DTSTART;TZID=Europe/Rome;VALUE=DATE-TIME:20150508T160000
DTEND;TZID=Europe/Rome;VALUE=DATE-TIME:20150508T190000
DTSTAMP;VALUE=DATE-TIME:20260421T061006Z
UID:ed8c2097076c40978f9f6ba63d22e7ea@dicam.unibo.it
CREATED;VALUE=DATE-TIME:20150504T114407Z
LAST-MODIFIED;VALUE=DATE-TIME:20150504T114441Z
URL:https://dicam.unibo.it/it/eventi/il-codice-ambiguo-esplorando-il-manos
 critto-voynich
END:VEVENT
BEGIN:VTIMEZONE
TZID:Europe/Rome
X-LIC-LOCATION:Europe/Rome
BEGIN:DAYLIGHT
DTSTART;VALUE=DATE-TIME:20150329T030000
TZNAME:CEST
TZOFFSETFROM:+0100
TZOFFSETTO:+0200
END:DAYLIGHT
END:VTIMEZONE
END:VCALENDAR
