BEGIN:VCALENDAR
VERSION:2.0
PRODID:-//Plone.org//NONSGML plone.app.event//EN
X-WR-TIMEZONE:Europe/Rome
BEGIN:VEVENT
SUMMARY:Il restauro della fontana del Nettuno a Bologna: report sulle atti
 vità in corso
DTSTART;TZID=Europe/Rome;VALUE=DATE-TIME:20170324T100000
DTEND;TZID=Europe/Rome;VALUE=DATE-TIME:20170324T130000
DTSTAMP;VALUE=DATE-TIME:20260421T143830Z
UID:e22a54da68ed482bb24d5f19a828cdf6@dicam.unibo.it
CREATED;VALUE=DATE-TIME:20170320T104723Z
DESCRIPTION:Restauro-Musei XXIV edizione
LAST-MODIFIED;VALUE=DATE-TIME:20170320T104815Z
URL:https://dicam.unibo.it/it/eventi/il-restauro-della-fontana-del-nettuno
 -a-bologna-report-sulle-attivita-in-corso
END:VEVENT
BEGIN:VTIMEZONE
TZID:Europe/Rome
X-LIC-LOCATION:Europe/Rome
BEGIN:STANDARD
DTSTART;VALUE=DATE-TIME:20161030T020000
TZNAME:CET
TZOFFSETFROM:+0200
TZOFFSETTO:+0100
END:STANDARD
END:VTIMEZONE
END:VCALENDAR
