BEGIN:VCALENDAR
VERSION:2.0
PRODID:-//Plone.org//NONSGML plone.app.event//EN
X-WR-TIMEZONE:Europe/Rome
BEGIN:VEVENT
SUMMARY:Impact Model Student Workshop" for CRAFT H2020 Project
DTSTART;TZID=Europe/Rome;VALUE=DATE-TIME:20230522T120000
DTEND;TZID=Europe/Rome;VALUE=DATE-TIME:20230522T140000
DTSTAMP;VALUE=DATE-TIME:20260421T044738Z
UID:3bf39c25636b4de094bb428681462f42@dicam.unibo.it
CREATED;VALUE=DATE-TIME:20230508T080917Z
DESCRIPTION:Dr. Yu Wang\, NTNU
LAST-MODIFIED;VALUE=DATE-TIME:20230508T082323Z
URL:https://dicam.unibo.it/it/eventi/impact-model-student-workshop-for-cra
 ft-h2020-project
END:VEVENT
BEGIN:VTIMEZONE
TZID:Europe/Rome
X-LIC-LOCATION:Europe/Rome
BEGIN:DAYLIGHT
DTSTART;VALUE=DATE-TIME:20230326T030000
TZNAME:CEST
TZOFFSETFROM:+0100
TZOFFSETTO:+0200
END:DAYLIGHT
END:VTIMEZONE
END:VCALENDAR
