BEGIN:VCALENDAR
VERSION:2.0
PRODID:-//Plone.org//NONSGML plone.app.event//EN
X-WR-TIMEZONE:Europe/Rome
BEGIN:VEVENT
SUMMARY:Increasing the visibility of the Geosciences: Some Ideas from a Ge
 odesy Perspective
DTSTART;TZID=Europe/Rome;VALUE=DATE-TIME:20240510T153000
DTEND;TZID=Europe/Rome;VALUE=DATE-TIME:20240510T180000
DTSTAMP;VALUE=DATE-TIME:20260421T061236Z
UID:3f802ad424e2462ab0c70e0063746b90@dicam.unibo.it
CREATED;VALUE=DATE-TIME:20240502T072420Z
DESCRIPTION:Prof. Chris Rizos
LAST-MODIFIED;VALUE=DATE-TIME:20240502T090704Z
URL:https://dicam.unibo.it/it/eventi/increasing-the-visibility-of-the-geos
 ciences-some-ideas-from-a-geodesy-perspective-2
END:VEVENT
BEGIN:VTIMEZONE
TZID:Europe/Rome
X-LIC-LOCATION:Europe/Rome
BEGIN:DAYLIGHT
DTSTART;VALUE=DATE-TIME:20240331T030000
TZNAME:CEST
TZOFFSETFROM:+0100
TZOFFSETTO:+0200
END:DAYLIGHT
END:VTIMEZONE
END:VCALENDAR
