BEGIN:VCALENDAR
VERSION:2.0
PRODID:-//Plone.org//NONSGML plone.app.event//EN
X-WR-TIMEZONE:Europe/Rome
BEGIN:VEVENT
SUMMARY:InfoDay Erasmus+ 2017
DTSTART;TZID=Europe/Rome;VALUE=DATE-TIME:20160707T143000
DTEND;TZID=Europe/Rome;VALUE=DATE-TIME:20160707T163000
DTSTAMP;VALUE=DATE-TIME:20260424T212847Z
UID:3cbc3ee37995445285fa238541b0dc5d@dicam.unibo.it
CREATED;VALUE=DATE-TIME:20160621T063414Z
DESCRIPTION:Un appuntamento organizzato dall’Area Relazioni Internaziona
 li per presentare le opportunità per il finanziamento di progetti di inte
 rnazionalizzazione e cooperazione internazionale in materia di istruzione 
 e formazione offerte dal programma europeo Erasmus+ 2017.\n
LAST-MODIFIED;VALUE=DATE-TIME:20160621T063458Z
URL:https://dicam.unibo.it/it/eventi/infoday-erasmus-2017
END:VEVENT
BEGIN:VTIMEZONE
TZID:Europe/Rome
X-LIC-LOCATION:Europe/Rome
BEGIN:DAYLIGHT
DTSTART;VALUE=DATE-TIME:20160327T030000
TZNAME:CEST
TZOFFSETFROM:+0100
TZOFFSETTO:+0200
END:DAYLIGHT
END:VTIMEZONE
END:VCALENDAR
