BEGIN:VCALENDAR
VERSION:2.0
PRODID:-//Plone.org//NONSGML plone.app.event//EN
X-WR-TIMEZONE:Europe/Rome
BEGIN:VEVENT
SUMMARY:Information theory of multiscale simulations of complex flows
DTSTART;TZID=Europe/Rome;VALUE=DATE-TIME:20240708T153000
DTEND;TZID=Europe/Rome;VALUE=DATE-TIME:20240708T173000
DTSTAMP;VALUE=DATE-TIME:20260421T061056Z
UID:7b5b8c904b4744fd9654fd0f6952a8aa@dicam.unibo.it
CREATED;VALUE=DATE-TIME:20240708T100752Z
DESCRIPTION:Prof. Daniel M. Tartakovsky\, Stanford University
LAST-MODIFIED;VALUE=DATE-TIME:20240708T101923Z
URL:https://dicam.unibo.it/it/eventi/information-theory-of-multiscale-simu
 lations-of-complex-flows
END:VEVENT
BEGIN:VTIMEZONE
TZID:Europe/Rome
X-LIC-LOCATION:Europe/Rome
BEGIN:DAYLIGHT
DTSTART;VALUE=DATE-TIME:20240331T030000
TZNAME:CEST
TZOFFSETFROM:+0100
TZOFFSETTO:+0200
END:DAYLIGHT
END:VTIMEZONE
END:VCALENDAR
