BEGIN:VCALENDAR
VERSION:2.0
PRODID:-//Plone.org//NONSGML plone.app.event//EN
X-WR-TIMEZONE:Europe/Rome
BEGIN:VEVENT
SUMMARY:International Workshop on Physics of Membrane Processes (PMP 2018)
DTSTART;TZID=Europe/Rome;VALUE=DATE-TIME:20180902T090000
DTEND;TZID=Europe/Rome;VALUE=DATE-TIME:20180902T173000
DTSTAMP;VALUE=DATE-TIME:20260425T001114Z
UID:0dfcd4d261aa4d49a57394fd080f7f5d@dicam.unibo.it
CREATED;VALUE=DATE-TIME:20180423T131438Z
LAST-MODIFIED;VALUE=DATE-TIME:20250624T064242Z
URL:https://dicam.unibo.it/it/eventi/international-workshop-on-physics-of-
 membrane-processes-pmp-2018
END:VEVENT
BEGIN:VTIMEZONE
TZID:Europe/Rome
X-LIC-LOCATION:Europe/Rome
BEGIN:DAYLIGHT
DTSTART;VALUE=DATE-TIME:20180325T030000
TZNAME:CEST
TZOFFSETFROM:+0100
TZOFFSETTO:+0200
END:DAYLIGHT
END:VTIMEZONE
END:VCALENDAR
