BEGIN:VCALENDAR
VERSION:2.0
PRODID:-//Plone.org//NONSGML plone.app.event//EN
X-WR-TIMEZONE:Europe/Rome
BEGIN:VEVENT
SUMMARY:ISA Lecture by John Clague on "Catastrophic Floods"
DTSTART;VALUE=DATE:20170926
DTEND;VALUE=DATE:20170927
DTSTAMP;VALUE=DATE-TIME:20260422T184456Z
UID:b416b481519a47689a8a87ac7c3efd1b@dicam.unibo.it
CREATED;VALUE=DATE-TIME:20170925T085628Z
DESCRIPTION:The visit of Prof. Clague is organised by Francesco Brardinoni
  from the Department of Biological\, Geological\, and Environmental Scienc
 es.
LAST-MODIFIED;VALUE=DATE-TIME:20170925T085700Z
URL:https://dicam.unibo.it/it/eventi/isa-lecture-by-john-clague-on-catastr
 ophic-floods
END:VEVENT
END:VCALENDAR
