BEGIN:VCALENDAR
VERSION:2.0
PRODID:-//Plone.org//NONSGML plone.app.event//EN
X-WR-TIMEZONE:Europe/Rome
BEGIN:VEVENT
SUMMARY:ISA Lecture prof. Barbosa: "Development of active\, smart and sust
 ainable packaging"
DTSTART;TZID=Europe/Rome;VALUE=DATE-TIME:20190205T173000
DTEND;TZID=Europe/Rome;VALUE=DATE-TIME:20190205T193000
DTSTAMP;VALUE=DATE-TIME:20260425T162439Z
UID:4c1415991bc5483294aa4d559ccd944a@dicam.unibo.it
CREATED;VALUE=DATE-TIME:20190116T132822Z
LAST-MODIFIED;VALUE=DATE-TIME:20190116T132942Z
URL:https://dicam.unibo.it/it/eventi/isa-lecture-prof.-barbosa-development
 -of-active-smart-and-sustainable-packaging
END:VEVENT
BEGIN:VTIMEZONE
TZID:Europe/Rome
X-LIC-LOCATION:Europe/Rome
BEGIN:STANDARD
DTSTART;VALUE=DATE-TIME:20181028T020000
TZNAME:CET
TZOFFSETFROM:+0200
TZOFFSETTO:+0100
END:STANDARD
END:VTIMEZONE
END:VCALENDAR
