BEGIN:VCALENDAR
VERSION:2.0
PRODID:-//Plone.org//NONSGML plone.app.event//EN
X-WR-TIMEZONE:Europe/Rome
BEGIN:VEVENT
SUMMARY:Join the International Master’s Programmes - Winter Party 2016
DTSTART;TZID=Europe/Rome;VALUE=DATE-TIME:20161215T180000
DTEND;TZID=Europe/Rome;VALUE=DATE-TIME:20161215T210000
DTSTAMP;VALUE=DATE-TIME:20260424T040324Z
UID:9545c4ed96964511ab74e8b5bad545be@dicam.unibo.it
CREATED;VALUE=DATE-TIME:20161207T141717Z
LAST-MODIFIED;VALUE=DATE-TIME:20161207T141855Z
URL:https://dicam.unibo.it/it/eventi/join-the-international-master2019s-pr
 ogrammes-winter-party-2016
END:VEVENT
BEGIN:VTIMEZONE
TZID:Europe/Rome
X-LIC-LOCATION:Europe/Rome
BEGIN:STANDARD
DTSTART;VALUE=DATE-TIME:20161030T020000
TZNAME:CET
TZOFFSETFROM:+0200
TZOFFSETTO:+0100
END:STANDARD
END:VTIMEZONE
END:VCALENDAR
