BEGIN:VCALENDAR
VERSION:2.0
PRODID:-//Plone.org//NONSGML plone.app.event//EN
X-WR-TIMEZONE:Europe/Rome
BEGIN:VEVENT
SUMMARY:Kick-Off Meeting del Progetto Marie Curie GreeNexUS - Green-health
 -safety Nexus for new Urban Spaces
DTSTART;TZID=Europe/Rome;VALUE=DATE-TIME:20230206T130000
DTEND;TZID=Europe/Rome;VALUE=DATE-TIME:20230207T140000
DTSTAMP;VALUE=DATE-TIME:20260421T061334Z
UID:f7da75f877874203bf0c447c3286c196@dicam.unibo.it
CREATED;VALUE=DATE-TIME:20230123T220753Z
LAST-MODIFIED;VALUE=DATE-TIME:20230123T220755Z
URL:https://dicam.unibo.it/it/eventi/kick-off-meeting-del-progetto-marie-c
 urie-greenexus-green-health-safety-nexus-for-new-urban-spaces
END:VEVENT
BEGIN:VTIMEZONE
TZID:Europe/Rome
X-LIC-LOCATION:Europe/Rome
BEGIN:STANDARD
DTSTART;VALUE=DATE-TIME:20221030T020000
TZNAME:CET
TZOFFSETFROM:+0200
TZOFFSETTO:+0100
END:STANDARD
END:VTIMEZONE
END:VCALENDAR
