BEGIN:VCALENDAR
VERSION:2.0
PRODID:-//Plone.org//NONSGML plone.app.event//EN
X-WR-TIMEZONE:Europe/Rome
BEGIN:VEVENT
SUMMARY:L’acqua è un bene preziozo… - Cineforum
DTSTART;TZID=Europe/Rome;VALUE=DATE-TIME:20150323T150000
DTEND;TZID=Europe/Rome;VALUE=DATE-TIME:20150323T170000
DTSTAMP;VALUE=DATE-TIME:20260421T042742Z
UID:c84bc02b352b4093af50ae4966b9e5dd@dicam.unibo.it
CREATED;VALUE=DATE-TIME:20150319T122445Z
DESCRIPTION:III Cineforum organizzato dal Gruppo Terracini in Transizione 
 e dall’Associazione Ingegneria Senza Frontiere.
LAST-MODIFIED;VALUE=DATE-TIME:20150319T122634Z
URL:https://dicam.unibo.it/it/eventi/l2019acqua-e-un-bene-preziozo...-cine
 forum
END:VEVENT
BEGIN:VTIMEZONE
TZID:Europe/Rome
X-LIC-LOCATION:Europe/Rome
BEGIN:STANDARD
DTSTART;VALUE=DATE-TIME:20141026T020000
TZNAME:CET
TZOFFSETFROM:+0200
TZOFFSETTO:+0100
END:STANDARD
END:VTIMEZONE
END:VCALENDAR
