BEGIN:VCALENDAR
VERSION:2.0
PRODID:-//Plone.org//NONSGML plone.app.event//EN
X-WR-TIMEZONE:Europe/Rome
BEGIN:VEVENT
SUMMARY:L’Ingegnere per l’Ambiente e il Territorio: una figura profess
 ionale con grandi prospettive di crescita
DTSTART;TZID=Europe/Rome;VALUE=DATE-TIME:20160706T090000
DTEND;TZID=Europe/Rome;VALUE=DATE-TIME:20160706T153000
DTSTAMP;VALUE=DATE-TIME:20260421T110931Z
UID:17f920d300d14c81b9a88ce65e7dd031@dicam.unibo.it
CREATED;VALUE=DATE-TIME:20160628T060852Z
DESCRIPTION:La formazione nelle discipline ingegneristiche è un elemento 
 chiave per rendere disponibili le competenze necessarie allo sviluppo di u
 n sistema produttivo che unisca il territorio\, le imprese e l’Universit
 à in un contesto di innovazione e sostenibilità.
LAST-MODIFIED;VALUE=DATE-TIME:20160628T060904Z
URL:https://dicam.unibo.it/it/eventi/l2019ingegnere-per-l2019ambiente-e-il
 -territorio-una-figura-professionale-con-grandi-prospettive-di-crescita
END:VEVENT
BEGIN:VTIMEZONE
TZID:Europe/Rome
X-LIC-LOCATION:Europe/Rome
BEGIN:DAYLIGHT
DTSTART;VALUE=DATE-TIME:20160327T030000
TZNAME:CEST
TZOFFSETFROM:+0100
TZOFFSETTO:+0200
END:DAYLIGHT
END:VTIMEZONE
END:VCALENDAR
