BEGIN:VCALENDAR
VERSION:2.0
PRODID:-//Plone.org//NONSGML plone.app.event//EN
X-WR-TIMEZONE:Europe/Rome
BEGIN:VEVENT
SUMMARY:L’Ingegneria Chimica a Bologna: formazione e ricerca per il terr
 itorio e le imprese
DTSTART;TZID=Europe/Rome;VALUE=DATE-TIME:20160705T090000
DTEND;TZID=Europe/Rome;VALUE=DATE-TIME:20160705T153000
DTSTAMP;VALUE=DATE-TIME:20260421T142630Z
UID:ea14cfc639284b9f88a515e92e740d07@dicam.unibo.it
CREATED;VALUE=DATE-TIME:20160628T060415Z
DESCRIPTION:La formazione nelle discipline ingegneristiche è un elemento 
 chiave per rendere disponibili le competenze necessarie allo sviluppo di u
 n sistema produttivo che unisca il territorio\, le imprese e l’universit
 à in un contesto di innovazione e sostenibilità. L’università in ques
 ti anni è protagonista di un’importante percorso di rinnovo ed apertura
  delle necessità di formazione e di innovazione\, che ha portato ad un co
 stante aggiornamento dei percorsi formativi.
LAST-MODIFIED;VALUE=DATE-TIME:20160628T060448Z
URL:https://dicam.unibo.it/it/eventi/l2019ingegneria-chimica-a-bologna-for
 mazione-e-ricerca-per-il-territorio-e-le-imprese
END:VEVENT
BEGIN:VTIMEZONE
TZID:Europe/Rome
X-LIC-LOCATION:Europe/Rome
BEGIN:DAYLIGHT
DTSTART;VALUE=DATE-TIME:20160327T030000
TZNAME:CEST
TZOFFSETFROM:+0100
TZOFFSETTO:+0200
END:DAYLIGHT
END:VTIMEZONE
END:VCALENDAR
