BEGIN:VCALENDAR
VERSION:2.0
PRODID:-//Plone.org//NONSGML plone.app.event//EN
X-WR-TIMEZONE:Europe/Rome
BEGIN:VEVENT
SUMMARY: L’Ingegneria Civile e l’Ingegneria Edile per lo sviluppo e la
  crescita del territorio e delle imprese
DTSTART;TZID=Europe/Rome;VALUE=DATE-TIME:20160712T090000
DTEND;TZID=Europe/Rome;VALUE=DATE-TIME:20160712T150000
DTSTAMP;VALUE=DATE-TIME:20260421T161613Z
UID:63c3c151d2ec427e9064e7a8654919d6@dicam.unibo.it
CREATED;VALUE=DATE-TIME:20160628T060643Z
DESCRIPTION:Lo sviluppo e la trasformazione del territorio e delle infrast
 rutture sono da sempre intimamente legate alla capacità ed adeguatezza de
 lle figure professionali dell’Ingegnere Civile ed Edile. Solo così poss
 ono essere messe in gioco le competenze necessarie allo sviluppo di un sis
 tema produttivo che unisca il territorio\, le imprese e l’università in
  un contesto di innovazione e sostenibilità. In quest’ambito\, l’Univ
 ersità si fa carico della formazione e si pone quale riferimento privileg
 iato per la ricerca\; relativamente al primo aspetto\, si è recentemente 
 intrapreso un’importante percorso di rinnovo ed apertura delle necessit
 à di formazione e di innovazione\, che ha portato ad un costante aggiorna
 mento dei percorsi formativi.
LAST-MODIFIED;VALUE=DATE-TIME:20160628T060704Z
URL:https://dicam.unibo.it/it/eventi/l2019ingegneria-civile-e-l2019ingegne
 ria-edile-per-lo-sviluppo-e-la-crescita-del-territorio-e-delle-imprese
END:VEVENT
BEGIN:VTIMEZONE
TZID:Europe/Rome
X-LIC-LOCATION:Europe/Rome
BEGIN:DAYLIGHT
DTSTART;VALUE=DATE-TIME:20160327T030000
TZNAME:CEST
TZOFFSETFROM:+0100
TZOFFSETTO:+0200
END:DAYLIGHT
END:VTIMEZONE
END:VCALENDAR
