BEGIN:VCALENDAR
VERSION:2.0
PRODID:-//Plone.org//NONSGML plone.app.event//EN
X-WR-TIMEZONE:Europe/Rome
BEGIN:VEVENT
SUMMARY:L’ingegneria per l’ambiente e il territorio e le nuove sfide d
 ella sostenibilità
DTSTART;TZID=Europe/Rome;VALUE=DATE-TIME:20150914T083000
DTEND;TZID=Europe/Rome;VALUE=DATE-TIME:20150914T130000
DTSTAMP;VALUE=DATE-TIME:20260421T080335Z
UID:6dae2ef8d2a3463fb0396497991ac4ec@dicam.unibo.it
CREATED;VALUE=DATE-TIME:20150903T121612Z
DESCRIPTION:Affrontare le sfide della sostenibilità significa intervenire
  nelle politiche ambientali\, dai cambiamenti climatici globali agli inter
 venti locali. L’innovazione tecnologica per l’ambiente\, l’efficienz
 a energetica e la gestione delle risorse naturali\; il ruolo della prevenz
 ione\, della protezione del suolo e del ripristino dei siti contaminati an
 che alla luce della nuova normativa in materia di delitti ambientali: ques
 ti alcuni dei temi centrali al convegno ‘L’ingegneria per l’ambiente
  e il territorio e le nuove sfide della sostenibilità’\, organizzato da
 ll’Università di Bologna presso la Scuola di Ingegneria e Architettura 
 lunedì 14 settembre.
LAST-MODIFIED;VALUE=DATE-TIME:20150903T121648Z
URL:https://dicam.unibo.it/it/eventi/l2019ingegneria-per-l2019ambiente-e-i
 l-territorio-e-le-nuove-sfide-della-sostenibilita
END:VEVENT
BEGIN:VTIMEZONE
TZID:Europe/Rome
X-LIC-LOCATION:Europe/Rome
BEGIN:DAYLIGHT
DTSTART;VALUE=DATE-TIME:20150329T030000
TZNAME:CEST
TZOFFSETFROM:+0100
TZOFFSETTO:+0200
END:DAYLIGHT
END:VTIMEZONE
END:VCALENDAR
