BEGIN:VCALENDAR
VERSION:2.0
PRODID:-//Plone.org//NONSGML plone.app.event//EN
X-WR-TIMEZONE:Europe/Rome
BEGIN:VEVENT
SUMMARY:La disciplina dei trasporti nella Scuola-Facoltà di Ingegneria
DTSTART;VALUE=DATE:20160519
DTEND;VALUE=DATE:20160520
DTSTAMP;VALUE=DATE-TIME:20260421T094719Z
UID:8caec3f92a0b4bd1ab4584ff8fadc737@dicam.unibo.it
CREATED;VALUE=DATE-TIME:20160511T112802Z
DESCRIPTION:Conferenza a cura dei Proff. Giannino Praitoni e Federico Rupi
 .
LAST-MODIFIED;VALUE=DATE-TIME:20250624T063320Z
URL:https://dicam.unibo.it/it/eventi/la-disciplina-dei-trasporti-nella-scu
 ola-facolta-di-ingegneria
END:VEVENT
END:VCALENDAR
