BEGIN:VCALENDAR
VERSION:2.0
PRODID:-//Plone.org//NONSGML plone.app.event//EN
X-WR-TIMEZONE:Europe/Rome
BEGIN:VEVENT
SUMMARY:Lagrangian Methods for Flow Measurements
DTSTART;TZID=Europe/Rome;VALUE=DATE-TIME:20231002T100000
DTEND;TZID=Europe/Rome;VALUE=DATE-TIME:20231002T120000
DTSTAMP;VALUE=DATE-TIME:20260421T060814Z
UID:9e4c986fa3ae4dd289dd4fb4004a9b8f@dicam.unibo.it
CREATED;VALUE=DATE-TIME:20230927T083127Z
DESCRIPTION:Dr. Rui Aleixo\, Institute of Hydroengineering – Polish Acad
 emy of Sciences
LAST-MODIFIED;VALUE=DATE-TIME:20230927T083307Z
URL:https://dicam.unibo.it/it/eventi/lagrangian-methods-for-flow-measureme
 nts
END:VEVENT
BEGIN:VTIMEZONE
TZID:Europe/Rome
X-LIC-LOCATION:Europe/Rome
BEGIN:DAYLIGHT
DTSTART;VALUE=DATE-TIME:20230326T030000
TZNAME:CEST
TZOFFSETFROM:+0100
TZOFFSETTO:+0200
END:DAYLIGHT
END:VTIMEZONE
END:VCALENDAR
