BEGIN:VCALENDAR
VERSION:2.0
PRODID:-//Plone.org//NONSGML plone.app.event//EN
X-WR-TIMEZONE:Europe/Rome
BEGIN:VEVENT
SUMMARY:Launching an academic career
DTSTART;TZID=Europe/Rome;VALUE=DATE-TIME:20231016T140000
DTEND;TZID=Europe/Rome;VALUE=DATE-TIME:20231016T190000
DTSTAMP;VALUE=DATE-TIME:20260421T045915Z
UID:5b76830343864ea3957a1425f664054e@dicam.unibo.it
CREATED;VALUE=DATE-TIME:20231011T085226Z
DESCRIPTION:Prof. Jeffrey McDonnell\, Global Institute for Water Security\
 , University of Saskatchewan\, Canada
LAST-MODIFIED;VALUE=DATE-TIME:20231011T091219Z
URL:https://dicam.unibo.it/it/eventi/launching-an-academic-career
END:VEVENT
BEGIN:VTIMEZONE
TZID:Europe/Rome
X-LIC-LOCATION:Europe/Rome
BEGIN:DAYLIGHT
DTSTART;VALUE=DATE-TIME:20230326T030000
TZNAME:CEST
TZOFFSETFROM:+0100
TZOFFSETTO:+0200
END:DAYLIGHT
END:VTIMEZONE
END:VCALENDAR
