BEGIN:VCALENDAR
VERSION:2.0
PRODID:-//Plone.org//NONSGML plone.app.event//EN
X-WR-TIMEZONE:Europe/Rome
BEGIN:VEVENT
SUMMARY:Lectio Magistralis dott.ssa Bastioli
DTSTART;VALUE=DATE:20190527
DTEND;VALUE=DATE:20190528
DTSTAMP;VALUE=DATE-TIME:20260424T193713Z
UID:ca6032715142408691b8cc600714d317@dicam.unibo.it
CREATED;VALUE=DATE-TIME:20190521T094922Z
DESCRIPTION:Dottorato di ricerca ad honorem
LAST-MODIFIED;VALUE=DATE-TIME:20190521T095255Z
URL:https://dicam.unibo.it/it/eventi/lectio-magistralis-dott.ssa-bastioli
END:VEVENT
END:VCALENDAR
