BEGIN:VCALENDAR
VERSION:2.0
PRODID:-//Plone.org//NONSGML plone.app.event//EN
X-WR-TIMEZONE:Europe/Rome
BEGIN:VEVENT
SUMMARY:Lectures Dr. Gerali
DTSTART;TZID=Europe/Rome;VALUE=DATE-TIME:20171206T110000
DTEND;TZID=Europe/Rome;VALUE=DATE-TIME:20171206T133000
DTSTAMP;VALUE=DATE-TIME:20260424T052823Z
UID:9facdb434bfd4b72b2d98bde93dee787@dicam.unibo.it
CREATED;VALUE=DATE-TIME:20171129T095156Z
LAST-MODIFIED;VALUE=DATE-TIME:20171129T095251Z
URL:https://dicam.unibo.it/it/eventi/lectures-dr.-gerali
END:VEVENT
BEGIN:VTIMEZONE
TZID:Europe/Rome
X-LIC-LOCATION:Europe/Rome
BEGIN:STANDARD
DTSTART;VALUE=DATE-TIME:20171029T020000
TZNAME:CET
TZOFFSETFROM:+0200
TZOFFSETTO:+0100
END:STANDARD
END:VTIMEZONE
END:VCALENDAR
