BEGIN:VCALENDAR
VERSION:2.0
PRODID:-//Plone.org//NONSGML plone.app.event//EN
X-WR-TIMEZONE:Europe/Rome
BEGIN:VEVENT
SUMMARY:EVENTO ANNULLATO: Linear viscoelasticity of vitrimer melts
DTSTART;TZID=Europe/Rome;VALUE=DATE-TIME:20230519T100000
DTEND;TZID=Europe/Rome;VALUE=DATE-TIME:20230519T130000
DTSTAMP;VALUE=DATE-TIME:20260421T061120Z
UID:a40bdd05e27e47d78909aa81204530c5@dicam.unibo.it
CREATED;VALUE=DATE-TIME:20230504T135322Z
DESCRIPTION:Prof Ralm Ricarte\, Florida State University
LAST-MODIFIED;VALUE=DATE-TIME:20230518T103840Z
URL:https://dicam.unibo.it/it/eventi/linear-viscoelasticity-of-vitrimer-me
 lts-1
END:VEVENT
BEGIN:VTIMEZONE
TZID:Europe/Rome
X-LIC-LOCATION:Europe/Rome
BEGIN:DAYLIGHT
DTSTART;VALUE=DATE-TIME:20230326T030000
TZNAME:CEST
TZOFFSETFROM:+0100
TZOFFSETTO:+0200
END:DAYLIGHT
END:VTIMEZONE
END:VCALENDAR
