BEGIN:VCALENDAR
VERSION:2.0
PRODID:-//Plone.org//NONSGML plone.app.event//EN
X-WR-TIMEZONE:Europe/Rome
BEGIN:VEVENT
SUMMARY:L'Ingegneria della Grande Guerra 1915-1918
DTSTART;TZID=Europe/Rome;VALUE=DATE-TIME:20150521T141500
DTEND;TZID=Europe/Rome;VALUE=DATE-TIME:20150529T190000
DTSTAMP;VALUE=DATE-TIME:20260421T061120Z
UID:4c49947928e74ffab867f573577dfe59@dicam.unibo.it
CREATED;VALUE=DATE-TIME:20150512T084223Z
LAST-MODIFIED;VALUE=DATE-TIME:20250624T063030Z
URL:https://dicam.unibo.it/it/eventi/lingegneria-della-grande-guerra-1915-
 1918
END:VEVENT
BEGIN:VTIMEZONE
TZID:Europe/Rome
X-LIC-LOCATION:Europe/Rome
BEGIN:DAYLIGHT
DTSTART;VALUE=DATE-TIME:20150329T030000
TZNAME:CEST
TZOFFSETFROM:+0100
TZOFFSETTO:+0200
END:DAYLIGHT
END:VTIMEZONE
END:VCALENDAR
