BEGIN:VCALENDAR
VERSION:2.0
PRODID:-//Plone.org//NONSGML plone.app.event//EN
X-WR-TIMEZONE:Europe/Rome
BEGIN:VEVENT
SUMMARY:Lo stoccaggio di gas in Italia
DTSTART;TZID=Europe/Rome;VALUE=DATE-TIME:20230309T140000
DTEND;TZID=Europe/Rome;VALUE=DATE-TIME:20230309T160000
DTSTAMP;VALUE=DATE-TIME:20260421T061120Z
UID:d3b429fa6adb4d4197950840554c2547@dicam.unibo.it
CREATED;VALUE=DATE-TIME:20230306T121356Z
DESCRIPTION:Alessandro TROIANO\nSNAM - Senior Vice President Business Unit
  Asset Italia Stoccaggio
LAST-MODIFIED;VALUE=DATE-TIME:20230308T182450Z
URL:https://dicam.unibo.it/it/eventi/lo-stoccaggio-di-gas-in-italia
END:VEVENT
BEGIN:VTIMEZONE
TZID:Europe/Rome
X-LIC-LOCATION:Europe/Rome
BEGIN:STANDARD
DTSTART;VALUE=DATE-TIME:20221030T020000
TZNAME:CET
TZOFFSETFROM:+0200
TZOFFSETTO:+0100
END:STANDARD
END:VTIMEZONE
END:VCALENDAR
