BEGIN:VCALENDAR
VERSION:2.0
PRODID:-//Plone.org//NONSGML plone.app.event//EN
X-WR-TIMEZONE:Europe/Rome
BEGIN:VEVENT
SUMMARY:M’illumino di meno\, pedalo di più
DTSTART;TZID=Europe/Rome;VALUE=DATE-TIME:20160219T133000
DTEND;TZID=Europe/Rome;VALUE=DATE-TIME:20160219T163000
DTSTAMP;VALUE=DATE-TIME:20260421T094044Z
UID:50e1fc94abb049b98913631b38ccd608@dicam.unibo.it
CREATED;VALUE=DATE-TIME:20160215T135711Z
DESCRIPTION:Nella giornata del Risparmio Energetico anche l’Alma Mater p
 artecipa alle iniziative promosse da Radio 2 "M’illumino di meno" e "Bik
 e the Nobel". 
LAST-MODIFIED;VALUE=DATE-TIME:20160215T135857Z
URL:https://dicam.unibo.it/it/eventi/m2019illumino-di-meno-pedalo-di-piu
END:VEVENT
BEGIN:VTIMEZONE
TZID:Europe/Rome
X-LIC-LOCATION:Europe/Rome
BEGIN:STANDARD
DTSTART;VALUE=DATE-TIME:20151025T020000
TZNAME:CET
TZOFFSETFROM:+0200
TZOFFSETTO:+0100
END:STANDARD
END:VTIMEZONE
END:VCALENDAR
