BEGIN:VCALENDAR
VERSION:2.0
PRODID:-//Plone.org//NONSGML plone.app.event//EN
X-WR-TIMEZONE:Europe/Rome
BEGIN:VEVENT
SUMMARY:Machine Learning for Biomedical Simulations
DTSTART;TZID=Europe/Rome;VALUE=DATE-TIME:20211123T110000
DTEND;TZID=Europe/Rome;VALUE=DATE-TIME:20211123T123000
DTSTAMP;VALUE=DATE-TIME:20260425T044935Z
UID:20bd7c7312224578b707d1c68badd48f@dicam.unibo.it
CREATED;VALUE=DATE-TIME:20211122T161313Z
DESCRIPTION:Prof. Daniel M. Tartakovsky\, Stanford University
LAST-MODIFIED;VALUE=DATE-TIME:20211122T163104Z
URL:https://dicam.unibo.it/it/eventi/machine-learning-for-biomedical-simul
 ations
END:VEVENT
BEGIN:VTIMEZONE
TZID:Europe/Rome
X-LIC-LOCATION:Europe/Rome
BEGIN:STANDARD
DTSTART;VALUE=DATE-TIME:20211031T020000
TZNAME:CET
TZOFFSETFROM:+0200
TZOFFSETTO:+0100
END:STANDARD
END:VTIMEZONE
END:VCALENDAR
