BEGIN:VCALENDAR
VERSION:2.0
PRODID:-//Plone.org//NONSGML plone.app.event//EN
X-WR-TIMEZONE:Europe/Rome
BEGIN:VEVENT
SUMMARY:Managing Virtual teams: Performance\, Negotiations and Conflicts
DTSTART;TZID=Europe/Rome;VALUE=DATE-TIME:20210319T110000
DTEND;TZID=Europe/Rome;VALUE=DATE-TIME:20210326T160000
DTSTAMP;VALUE=DATE-TIME:20260426T000025Z
UID:f0b05d9a54a543d4886c360660df94ec@dicam.unibo.it
CREATED;VALUE=DATE-TIME:20210305T101112Z
DESCRIPTION:Masterclass workshop for PhD students. March 19 and 26
LAST-MODIFIED;VALUE=DATE-TIME:20210305T102132Z
URL:https://dicam.unibo.it/it/eventi/managing-virtual-teams-performance-ne
 gotiations-and-conflicts
END:VEVENT
BEGIN:VTIMEZONE
TZID:Europe/Rome
X-LIC-LOCATION:Europe/Rome
BEGIN:STANDARD
DTSTART;VALUE=DATE-TIME:20201025T020000
TZNAME:CET
TZOFFSETFROM:+0200
TZOFFSETTO:+0100
END:STANDARD
END:VTIMEZONE
END:VCALENDAR
