BEGIN:VCALENDAR
VERSION:2.0
PRODID:-//Plone.org//NONSGML plone.app.event//EN
X-WR-TIMEZONE:Europe/Rome
BEGIN:VEVENT
SUMMARY:Mapathon - Evento di mappatura partecipata
DTSTART;TZID=Europe/Rome;VALUE=DATE-TIME:20190528T150000
DTEND;TZID=Europe/Rome;VALUE=DATE-TIME:20190528T190000
DTSTAMP;VALUE=DATE-TIME:20260424T190235Z
UID:a55510d5973a48ae981763e4351d1734@dicam.unibo.it
CREATED;VALUE=DATE-TIME:20190523T053853Z
LAST-MODIFIED;VALUE=DATE-TIME:20190523T054012Z
URL:https://dicam.unibo.it/it/eventi/mapathon-evento-di-mappatura-partecip
 ata
END:VEVENT
BEGIN:VTIMEZONE
TZID:Europe/Rome
X-LIC-LOCATION:Europe/Rome
BEGIN:DAYLIGHT
DTSTART;VALUE=DATE-TIME:20190331T030000
TZNAME:CEST
TZOFFSETFROM:+0100
TZOFFSETTO:+0200
END:DAYLIGHT
END:VTIMEZONE
END:VCALENDAR
