BEGIN:VCALENDAR
VERSION:2.0
PRODID:-//Plone.org//NONSGML plone.app.event//EN
X-WR-TIMEZONE:Europe/Rome
BEGIN:VEVENT
SUMMARY:Mapathon@UniBO 2019 - Climate Change
DTSTART;TZID=Europe/Rome;VALUE=DATE-TIME:20191111T150000
DTEND;TZID=Europe/Rome;VALUE=DATE-TIME:20191111T190000
DTSTAMP;VALUE=DATE-TIME:20260425T004557Z
UID:11b67be410d341069dc1a20ad992cac9@dicam.unibo.it
CREATED;VALUE=DATE-TIME:20191104T070225Z
LAST-MODIFIED;VALUE=DATE-TIME:20191104T070737Z
URL:https://dicam.unibo.it/it/eventi/mapathon-unibo-2019-climate-change
END:VEVENT
BEGIN:VTIMEZONE
TZID:Europe/Rome
X-LIC-LOCATION:Europe/Rome
BEGIN:STANDARD
DTSTART;VALUE=DATE-TIME:20191027T020000
TZNAME:CET
TZOFFSETFROM:+0200
TZOFFSETTO:+0100
END:STANDARD
END:VTIMEZONE
END:VCALENDAR
