BEGIN:VCALENDAR
VERSION:2.0
PRODID:-//Plone.org//NONSGML plone.app.event//EN
X-WR-TIMEZONE:Europe/Rome
BEGIN:VEVENT
SUMMARY:Mapathon@UniBo\, evento di mappatura partecipata
DTSTART;TZID=Europe/Rome;VALUE=DATE-TIME:20181113T110000
DTEND;TZID=Europe/Rome;VALUE=DATE-TIME:20181113T133000
DTSTAMP;VALUE=DATE-TIME:20260424T172214Z
UID:133e1cafbbcd4ffea72559eef2f3e933@dicam.unibo.it
CREATED;VALUE=DATE-TIME:20181107T112200Z
LAST-MODIFIED;VALUE=DATE-TIME:20181107T112308Z
URL:https://dicam.unibo.it/it/eventi/mapathon-unibo-evento-di-mappatura-pa
 rtecipata
END:VEVENT
BEGIN:VTIMEZONE
TZID:Europe/Rome
X-LIC-LOCATION:Europe/Rome
BEGIN:STANDARD
DTSTART;VALUE=DATE-TIME:20181028T020000
TZNAME:CET
TZOFFSETFROM:+0200
TZOFFSETTO:+0100
END:STANDARD
END:VTIMEZONE
END:VCALENDAR
