BEGIN:VCALENDAR
VERSION:2.0
PRODID:-//Plone.org//NONSGML plone.app.event//EN
X-WR-TIMEZONE:Europe/Rome
BEGIN:VEVENT
SUMMARY:MAPATHON
DTSTART;TZID=Europe/Rome;VALUE=DATE-TIME:20220607T150000
DTEND;TZID=Europe/Rome;VALUE=DATE-TIME:20220607T180000
DTSTAMP;VALUE=DATE-TIME:20260425T044739Z
UID:3831fb3878ae4c989250eb8717bcff28@dicam.unibo.it
CREATED;VALUE=DATE-TIME:20220603T062020Z
DESCRIPTION:Evento di mappatura partecipata
LAST-MODIFIED;VALUE=DATE-TIME:20220603T062158Z
URL:https://dicam.unibo.it/it/eventi/mapathon
END:VEVENT
BEGIN:VTIMEZONE
TZID:Europe/Rome
X-LIC-LOCATION:Europe/Rome
BEGIN:DAYLIGHT
DTSTART;VALUE=DATE-TIME:20220327T030000
TZNAME:CEST
TZOFFSETFROM:+0100
TZOFFSETTO:+0200
END:DAYLIGHT
END:VTIMEZONE
END:VCALENDAR
