BEGIN:VCALENDAR
VERSION:2.0
PRODID:-//Plone.org//NONSGML plone.app.event//EN
X-WR-TIMEZONE:Europe/Rome
BEGIN:VEVENT
SUMMARY:Master di II livello in Impresa e Tecnologia Ceramica
DTSTART;VALUE=DATE:20190625
DTEND;VALUE=DATE:20190626
DTSTAMP;VALUE=DATE-TIME:20260425T232949Z
UID:5f3eff2c7ccb4778a296744196ddc6d2@dicam.unibo.it
CREATED;VALUE=DATE-TIME:20190617T070257Z
LAST-MODIFIED;VALUE=DATE-TIME:20190617T071326Z
URL:https://dicam.unibo.it/it/eventi/master-di-ii-livello-in-impresa-e-tec
 nologia-ceramica
END:VEVENT
END:VCALENDAR
