BEGIN:VCALENDAR
VERSION:2.0
PRODID:-//Plone.org//NONSGML plone.app.event//EN
X-WR-TIMEZONE:Europe/Rome
BEGIN:VEVENT
SUMMARY:MECHCOMP3 - 3rd International Conference on Mechanics of Composite
 s
DTSTART;VALUE=DATE:20170704
DTEND;VALUE=DATE:20170708
DTSTAMP;VALUE=DATE-TIME:20260425T200043Z
UID:55ce575973f44df4a9e6edd70e510ba9@dicam.unibo.it
CREATED;VALUE=DATE-TIME:20170504T073730Z
LAST-MODIFIED;VALUE=DATE-TIME:20170504T073848Z
URL:https://dicam.unibo.it/it/eventi/mechcomp3-3rd-international-conferenc
 e-on-mechanics-of-composites
END:VEVENT
END:VCALENDAR
