BEGIN:VCALENDAR
VERSION:2.0
PRODID:-//Plone.org//NONSGML plone.app.event//EN
X-WR-TIMEZONE:Europe/Rome
BEGIN:VEVENT
SUMMARY:MEETUP - Intraprendere con L’Africa
DTSTART;VALUE=DATE:20191120
DTEND;VALUE=DATE:20191121
DTSTAMP;VALUE=DATE-TIME:20260425T223251Z
UID:c5ced3608b2e4a229ec252fa26e25357@dicam.unibo.it
CREATED;VALUE=DATE-TIME:20191030T150430Z
DESCRIPTION:L'evento vuole essere un’occasione di incontro e dialogo tra
  gli studenti dell’Alma Mater e la community di Vadoinafrica.com per con
 dividere esperienze e connettere gli interessi e le passioni di chi vorreb
 be fare impresa in Africa. Partecipa all'evento il 20 novembre.
LAST-MODIFIED;VALUE=DATE-TIME:20191111T112433Z
URL:https://dicam.unibo.it/it/eventi/meetup-intraprendere-con-l2019africa
END:VEVENT
END:VCALENDAR
