BEGIN:VCALENDAR
VERSION:2.0
PRODID:-//Plone.org//NONSGML plone.app.event//EN
X-WR-TIMEZONE:Europe/Rome
BEGIN:VEVENT
SUMMARY:Membrane Contactors: Process intensification due to enhancements i
 n material science and flow simulation
DTSTART;TZID=Europe/Rome;VALUE=DATE-TIME:20230413T150000
DTEND;TZID=Europe/Rome;VALUE=DATE-TIME:20230413T160000
DTSTAMP;VALUE=DATE-TIME:20260421T061120Z
UID:82820c02bc9a4070b79b2cea4b3afce0@dicam.unibo.it
CREATED;VALUE=DATE-TIME:20230405T084538Z
DESCRIPTION:Professor Dr.Ing. Wolfgang Riedl della University of Applied S
 ciences and Arts Northwestern Switzerland
LAST-MODIFIED;VALUE=DATE-TIME:20230405T084616Z
URL:https://dicam.unibo.it/it/eventi/membrane-contactors-process-intensifi
 cation-due-to-enhancements-in-material-science-and-flow-simulation-1
END:VEVENT
BEGIN:VTIMEZONE
TZID:Europe/Rome
X-LIC-LOCATION:Europe/Rome
BEGIN:DAYLIGHT
DTSTART;VALUE=DATE-TIME:20230326T030000
TZNAME:CEST
TZOFFSETFROM:+0100
TZOFFSETTO:+0200
END:DAYLIGHT
END:VTIMEZONE
END:VCALENDAR
