BEGIN:VCALENDAR
VERSION:2.0
PRODID:-//Plone.org//NONSGML plone.app.event//EN
X-WR-TIMEZONE:Europe/Rome
BEGIN:VEVENT
SUMMARY:Membranes and Membrane Processes Design
DTSTART;TZID=Europe/Rome;VALUE=DATE-TIME:20160626T170000
DTEND;TZID=Europe/Rome;VALUE=DATE-TIME:20160701T143000
DTSTAMP;VALUE=DATE-TIME:20260421T093511Z
UID:180701746aff45acb92c1dd06fe5dae4@dicam.unibo.it
CREATED;VALUE=DATE-TIME:20160621T084303Z
DESCRIPTION:European Membrane Society Summer School.
LAST-MODIFIED;VALUE=DATE-TIME:20160621T084340Z
URL:https://dicam.unibo.it/it/eventi/membranes-and-membrane-processes-desi
 gn
END:VEVENT
BEGIN:VTIMEZONE
TZID:Europe/Rome
X-LIC-LOCATION:Europe/Rome
BEGIN:DAYLIGHT
DTSTART;VALUE=DATE-TIME:20160327T030000
TZNAME:CEST
TZOFFSETFROM:+0100
TZOFFSETTO:+0200
END:DAYLIGHT
END:VTIMEZONE
END:VCALENDAR
