BEGIN:VCALENDAR
VERSION:2.0
PRODID:-//Plone.org//NONSGML plone.app.event//EN
X-WR-TIMEZONE:Europe/Rome
BEGIN:VEVENT
SUMMARY:Metallurgy Summer School on Simulation of Phase Transformations in
  Metal Processing
DTSTART;VALUE=DATE:20180722
DTEND;VALUE=DATE:20180726
DTSTAMP;VALUE=DATE-TIME:20260424T200011Z
UID:d60b821d5b534583b4a493a45f17aaaf@dicam.unibo.it
CREATED;VALUE=DATE-TIME:20180507T072808Z
LAST-MODIFIED;VALUE=DATE-TIME:20180507T072842Z
URL:https://dicam.unibo.it/it/eventi/metallurgy-summer-school-on-simulatio
 n-of-phase-transformations-in-metal-processing
END:VEVENT
END:VCALENDAR
