BEGIN:VCALENDAR
VERSION:2.0
PRODID:-//Plone.org//NONSGML plone.app.event//EN
X-WR-TIMEZONE:Europe/Rome
BEGIN:VEVENT
SUMMARY:Millennium Bags: cassette degli attrezzi per il domani
DTSTART;TZID=Europe/Rome;VALUE=DATE-TIME:20170531T100000
DTEND;TZID=Europe/Rome;VALUE=DATE-TIME:20170531T183000
DTSTAMP;VALUE=DATE-TIME:20260426T054152Z
UID:efd66511fbd64235b307003d6a2aa366@dicam.unibo.it
CREATED;VALUE=DATE-TIME:20170522T103046Z
DESCRIPTION:Evento di Terracini in Transizione organizzato in occasione de
 l Festival dello sviluppo sostenibile\, in collaborazione con ASVIS
LAST-MODIFIED;VALUE=DATE-TIME:20170522T104147Z
URL:https://dicam.unibo.it/it/eventi/millennium-bags-cassette-degli-attrez
 zi-per-il-domani
END:VEVENT
BEGIN:VTIMEZONE
TZID:Europe/Rome
X-LIC-LOCATION:Europe/Rome
BEGIN:DAYLIGHT
DTSTART;VALUE=DATE-TIME:20170326T030000
TZNAME:CEST
TZOFFSETFROM:+0100
TZOFFSETTO:+0200
END:DAYLIGHT
END:VTIMEZONE
END:VCALENDAR
