BEGIN:VCALENDAR
VERSION:2.0
PRODID:-//Plone.org//NONSGML plone.app.event//EN
X-WR-TIMEZONE:Europe/Rome
BEGIN:VEVENT
SUMMARY:M'illumino di meno 2015 - Cineforum: " Do the math"
DTSTART;TZID=Europe/Rome;VALUE=DATE-TIME:20150213T163000
DTEND;TZID=Europe/Rome;VALUE=DATE-TIME:20150213T183000
DTSTAMP;VALUE=DATE-TIME:20260421T042930Z
UID:469d16a4497a4931a3d234e974cd948f@dicam.unibo.it
CREATED;VALUE=DATE-TIME:20150209T144857Z
DESCRIPTION:II Cineforum organizzato dal Gruppo Terracini in Transizione e
  dall’Associazione Ingegneria Senza Frontiere.\n\n
LAST-MODIFIED;VALUE=DATE-TIME:20150209T144936Z
URL:https://dicam.unibo.it/it/eventi/millumino-di-meno-2015-cineforum-do-t
 he-math
END:VEVENT
BEGIN:VTIMEZONE
TZID:Europe/Rome
X-LIC-LOCATION:Europe/Rome
BEGIN:STANDARD
DTSTART;VALUE=DATE-TIME:20141026T020000
TZNAME:CET
TZOFFSETFROM:+0200
TZOFFSETTO:+0100
END:STANDARD
END:VTIMEZONE
END:VCALENDAR
