BEGIN:VCALENDAR
VERSION:2.0
PRODID:-//Plone.org//NONSGML plone.app.event//EN
X-WR-TIMEZONE:Europe/Rome
BEGIN:VEVENT
SUMMARY:Molecular dynamics in antibody engineering
DTSTART;TZID=Europe/Rome;VALUE=DATE-TIME:20230717T150000
DTEND;TZID=Europe/Rome;VALUE=DATE-TIME:20230717T170000
DTSTAMP;VALUE=DATE-TIME:20260421T060901Z
UID:fb084749994a4322b1525ea2688f7f00@dicam.unibo.it
CREATED;VALUE=DATE-TIME:20230717T094912Z
DESCRIPTION:Prof. Francesco Zonta Xi’an Jiaotong Liverpool University\, 
 Suzhou\, China
LAST-MODIFIED;VALUE=DATE-TIME:20230717T095208Z
URL:https://dicam.unibo.it/it/eventi/molecular-dynamics-in-antibody-engine
 ering
END:VEVENT
BEGIN:VTIMEZONE
TZID:Europe/Rome
X-LIC-LOCATION:Europe/Rome
BEGIN:DAYLIGHT
DTSTART;VALUE=DATE-TIME:20230326T030000
TZNAME:CEST
TZOFFSETFROM:+0100
TZOFFSETTO:+0200
END:DAYLIGHT
END:VTIMEZONE
END:VCALENDAR
