BEGIN:VCALENDAR
VERSION:2.0
PRODID:-//Plone.org//NONSGML plone.app.event//EN
X-WR-TIMEZONE:Europe/Rome
BEGIN:VEVENT
SUMMARY:Mondo del lavoro\, territorio\, Università: percorsi di gestione 
 sostenibile dell’ambiente
DTSTART;TZID=Europe/Rome;VALUE=DATE-TIME:20150612T090000
DTEND;TZID=Europe/Rome;VALUE=DATE-TIME:20150612T130000
DTSTAMP;VALUE=DATE-TIME:20260421T061320Z
UID:ccef8e1fc20342df8847dd8140999a0d@dicam.unibo.it
CREATED;VALUE=DATE-TIME:20150610T061537Z
LAST-MODIFIED;VALUE=DATE-TIME:20150610T061608Z
URL:https://dicam.unibo.it/it/eventi/mondo-del-lavoro-territorio-universit
 a-percorsi-di-gestione-sostenibile-dell2019ambiente
END:VEVENT
BEGIN:VTIMEZONE
TZID:Europe/Rome
X-LIC-LOCATION:Europe/Rome
BEGIN:DAYLIGHT
DTSTART;VALUE=DATE-TIME:20150329T030000
TZNAME:CEST
TZOFFSETFROM:+0100
TZOFFSETTO:+0200
END:DAYLIGHT
END:VTIMEZONE
END:VCALENDAR
